BEGIN:VCALENDAR
VERSION:2.0
PRODID:hinto.net
X-PUBLISHED-TTL:P1W
BEGIN:VEVENT
UID:hinto.net-event_show-6925721
DTSTART:20260425T190000
SEQUENCE:0
CREATED:20260419T052318
LAST-MODIFIED:20260419T052318
TRANSP:OPAQUE

LOCATION:La Forge Bleue
SUMMARY:ceilidh
CLASS:PUBLIC
DESCRIPTION:
ORGANIZER:
DTSTAMP:20260419T141114
ATTACH:https://www.hinto.net/de/events/ceilidh-25-04-2026-1900-la-forge-bleue-sion-e2847662-20.html
END:VEVENT
END:VCALENDAR
