BEGIN:VCALENDAR
VERSION:2.0
PRODID:hinto.net
X-PUBLISHED-TTL:P1W
BEGIN:VEVENT
UID:hinto.net-event_show-6807308
DTSTART:20260520T193000
SEQUENCE:0
CREATED:20260312T031824
LAST-MODIFIED:20260312T031824
TRANSP:OPAQUE

LOCATION:Montforthaus Feldkirch
SUMMARY:Watermusic
CLASS:PUBLIC
DESCRIPTION:
ORGANIZER:
DTSTAMP:20260419T194122
ATTACH:https://www.hinto.net/de/events/watermusic-20-05-2026-1930-montforthaus-feldkirch-feldkirch-e2746973-20.html
END:VEVENT
END:VCALENDAR
