BEGIN:VCALENDAR
VERSION:2.0
PRODID:hinto.net
X-PUBLISHED-TTL:P1W
BEGIN:VEVENT
UID:hinto.net-event_show-6872442
DTSTART:20260422T221500
SEQUENCE:0
CREATED:20260402T045434
LAST-MODIFIED:20260402T045434
TRANSP:OPAQUE
DTEND:20260423T002000
LOCATION:
SUMMARY:VOX: 110 im Dauereinsatz
CLASS:PUBLIC
DESCRIPTION:
ORGANIZER:
DTSTAMP:20260426T040110
ATTACH:https://www.hinto.net/de/events/vox-110-im-dauereinsatz-22-04-2026-2215-e2800846-20.html
END:VEVENT
END:VCALENDAR
