BEGIN:VCALENDAR
VERSION:2.0
PRODID:hinto.net
X-PUBLISHED-TTL:P1W
BEGIN:VEVENT
UID:hinto.net-event_show-6853300
DTSTART:20260417T000000
SEQUENCE:0
CREATED:20260409T160315
LAST-MODIFIED:20260409T160315
TRANSP:OPAQUE
DTEND:20260417T001700
LOCATION:
SUMMARY:TVO Tele Ostschweiz: Aktuell
CLASS:PUBLIC
DESCRIPTION:
ORGANIZER:
DTSTAMP:20260420T035509
ATTACH:https://www.hinto.net/de/events/tvo-tele-ostschweiz-aktuell-17-04-2026-0000-e2785179-20.html
END:VEVENT
END:VCALENDAR
