BEGIN:VCALENDAR
VERSION:2.0
PRODID:hinto.net
X-PUBLISHED-TTL:P1W
BEGIN:VEVENT
UID:hinto.net-event_show-6891529
DTSTART:20260419T153000
SEQUENCE:0
CREATED:20260408T173718
LAST-MODIFIED:20260408T173718
TRANSP:OPAQUE
DTEND:20260419T164000
LOCATION:
SUMMARY:TV24: premiumshopping.tv
CLASS:PUBLIC
DESCRIPTION:
ORGANIZER:
DTSTAMP:20260420T025410
ATTACH:https://www.hinto.net/de/events/tv24-premiumshopping-tv-19-04-2026-1530-e2817635-20.html
END:VEVENT
END:VCALENDAR
