BEGIN:VCALENDAR
VERSION:2.0
PRODID:hinto.net
X-PUBLISHED-TTL:P1W
BEGIN:VEVENT
UID:hinto.net-event_show-6891530
DTSTART:20260419T164000
SEQUENCE:0
CREATED:20260418T080554
LAST-MODIFIED:20260418T080554
TRANSP:OPAQUE
DTEND:20260419T174500
LOCATION:
SUMMARY:TV24: Mayday - Alarm im Cockpit
CLASS:PUBLIC
DESCRIPTION:
ORGANIZER:
DTSTAMP:20260419T211133
ATTACH:https://www.hinto.net/de/events/tv24-mayday-alarm-im-cockpit-19-04-2026-1640-e2817636-20.html
END:VEVENT
END:VCALENDAR
