BEGIN:VCALENDAR
VERSION:2.0
PRODID:hinto.net
X-PUBLISHED-TTL:P1W
BEGIN:VEVENT
UID:hinto.net-event_show-6863048
DTSTART:20260419T123000
SEQUENCE:0
CREATED:20260329T152410
LAST-MODIFIED:20260329T152410
TRANSP:OPAQUE
DTEND:20260419T125000
LOCATION:
SUMMARY:Tele Züri: Typisch Michelle
CLASS:PUBLIC
DESCRIPTION:
ORGANIZER:
DTSTAMP:20260419T221220
ATTACH:https://www.hinto.net/de/events/tele-zueri-typisch-michelle-19-04-2026-1230-e2793664-20.html
END:VEVENT
END:VCALENDAR
