BEGIN:VCALENDAR
VERSION:2.0
PRODID:hinto.net
X-PUBLISHED-TTL:P1W
BEGIN:VEVENT
UID:hinto.net-event_show-6863052
DTSTART:20260419T133000
SEQUENCE:0
CREATED:20260329T152413
LAST-MODIFIED:20260329T152413
TRANSP:OPAQUE
DTEND:20260419T135000
LOCATION:
SUMMARY:Tele Züri: SwissDinner: First-Dates-Special
CLASS:PUBLIC
DESCRIPTION:
ORGANIZER:
DTSTAMP:20260420T080251
ATTACH:https://www.hinto.net/de/events/tele-zueri-swissdinner-first-dates-special-19-04-2026-1330-e2793668-20.html
END:VEVENT
END:VCALENDAR
