BEGIN:VCALENDAR
VERSION:2.0
PRODID:hinto.net
X-PUBLISHED-TTL:P1W
BEGIN:VEVENT
UID:hinto.net-event_show-6863053
DTSTART:20260419T135000
SEQUENCE:0
CREATED:20260329T152413
LAST-MODIFIED:20260329T152413
TRANSP:OPAQUE
DTEND:20260419T140000
LOCATION:
SUMMARY:Tele Züri: Min Garte
CLASS:PUBLIC
DESCRIPTION:
ORGANIZER:
DTSTAMP:20260420T063035
ATTACH:https://www.hinto.net/de/events/tele-zueri-min-garte-19-04-2026-1350-e2793669-20.html
END:VEVENT
END:VCALENDAR
