BEGIN:VCALENDAR
VERSION:2.0
PRODID:hinto.net
X-PUBLISHED-TTL:P1W
BEGIN:VEVENT
UID:hinto.net-event_show-6863061
DTSTART:20260419T155000
SEQUENCE:0
CREATED:20260329T152419
LAST-MODIFIED:20260329T152419
TRANSP:OPAQUE
DTEND:20260419T160000
LOCATION:
SUMMARY:Tele Züri: CheckUp
CLASS:PUBLIC
DESCRIPTION:
ORGANIZER:
DTSTAMP:20260420T023629
ATTACH:https://www.hinto.net/de/events/tele-zueri-checkup-19-04-2026-1550-e2793677-20.html
END:VEVENT
END:VCALENDAR
