BEGIN:VCALENDAR
VERSION:2.0
PRODID:hinto.net
X-PUBLISHED-TTL:P1W
BEGIN:VEVENT
UID:hinto.net-event_show-6859692
DTSTART:20260419T045000
SEQUENCE:0
CREATED:20260418T063307
LAST-MODIFIED:20260418T063307
TRANSP:OPAQUE
DTEND:20260419T050000
LOCATION:
SUMMARY:Tele Züri: ZüriWetter
CLASS:PUBLIC
DESCRIPTION:
ORGANIZER:
DTSTAMP:20260420T052337
ATTACH:https://www.hinto.net/de/events/tele-zueri-zueriwetter-19-04-2026-0450-e2790871-20.html
END:VEVENT
END:VCALENDAR
