BEGIN:VCALENDAR
VERSION:2.0
PRODID:hinto.net
X-PUBLISHED-TTL:P1W
BEGIN:VEVENT
UID:hinto.net-event_show-6863592
DTSTART:20260419T160000
SEQUENCE:0
CREATED:20260329T155051
LAST-MODIFIED:20260329T155051
TRANSP:OPAQUE
DTEND:20260419T163000
LOCATION:
SUMMARY:Tele Top: Tophoch3
CLASS:PUBLIC
DESCRIPTION:
ORGANIZER:
DTSTAMP:20260420T041823
ATTACH:https://www.hinto.net/de/events/tele-top-tophoch3-19-04-2026-1600-e2794208-20.html
END:VEVENT
END:VCALENDAR
