BEGIN:VCALENDAR
VERSION:2.0
PRODID:hinto.net
X-PUBLISHED-TTL:P1W
BEGIN:VEVENT
UID:hinto.net-event_show-6860175
DTSTART:20260418T234500
SEQUENCE:0
CREATED:20260328T060418
LAST-MODIFIED:20260328T060418
TRANSP:OPAQUE
DTEND:20260419T000000
LOCATION:
SUMMARY:Tele Südostschweiz: Globe TV
CLASS:PUBLIC
DESCRIPTION:
ORGANIZER:
DTSTAMP:20260419T182427
ATTACH:https://www.hinto.net/de/events/tele-suedostschweiz-globe-tv-18-04-2026-2345-e2791354-20.html
END:VEVENT
END:VCALENDAR
