BEGIN:VCALENDAR
VERSION:2.0
PRODID:hinto.net
X-PUBLISHED-TTL:P1W
BEGIN:VEVENT
UID:hinto.net-event_show-6901592
DTSTART:20260419T132000
SEQUENCE:0
CREATED:20260411T061112
LAST-MODIFIED:20260411T061112
TRANSP:OPAQUE
DTEND:20260419T164500
LOCATION:
SUMMARY:Tele M1: premiumshopping.tv
CLASS:PUBLIC
DESCRIPTION:
ORGANIZER:
DTSTAMP:20260419T215658
ATTACH:https://www.hinto.net/de/events/tele-m1-premiumshopping-tv-19-04-2026-1320-e2826990-20.html
END:VEVENT
END:VCALENDAR
