BEGIN:VCALENDAR
VERSION:2.0
PRODID:hinto.net
X-PUBLISHED-TTL:P1W
BEGIN:VEVENT
UID:hinto.net-event_show-6872791
DTSTART:20260423T041500
SEQUENCE:0
CREATED:20260409T165348
LAST-MODIFIED:20260409T165348
TRANSP:OPAQUE
DTEND:20260423T042100
LOCATION:
SUMMARY:Tele M1: Börse
CLASS:PUBLIC
DESCRIPTION:
ORGANIZER:
DTSTAMP:20260423T203006
ATTACH:https://www.hinto.net/de/events/tele-m1-boerse-23-04-2026-0415-e2801195-20.html
END:VEVENT
END:VCALENDAR
