BEGIN:VCALENDAR
VERSION:2.0
PRODID:hinto.net
X-PUBLISHED-TTL:P1W
BEGIN:VEVENT
UID:hinto.net-event_show-6872780
DTSTART:20260423T020000
SEQUENCE:0
CREATED:20260402T050546
LAST-MODIFIED:20260402T050546
TRANSP:OPAQUE
DTEND:20260423T021500
LOCATION:
SUMMARY:Tele M1: Aktuell
CLASS:PUBLIC
DESCRIPTION:
ORGANIZER:
DTSTAMP:20260423T203007
ATTACH:https://www.hinto.net/de/events/tele-m1-aktuell-23-04-2026-0200-e2801184-20.html
END:VEVENT
END:VCALENDAR
