BEGIN:VCALENDAR
VERSION:2.0
PRODID:hinto.net
X-PUBLISHED-TTL:P1W
BEGIN:VEVENT
UID:hinto.net-event_show-6853212
DTSTART:20260417T000000
SEQUENCE:0
CREATED:20260326T185840
LAST-MODIFIED:20260326T185840
TRANSP:OPAQUE
DTEND:20260417T001500
LOCATION:
SUMMARY:Tele M1: Aktuell
CLASS:PUBLIC
DESCRIPTION:
ORGANIZER:
DTSTAMP:20260420T001140
ATTACH:https://www.hinto.net/de/events/tele-m1-aktuell-17-04-2026-0000-e2785091-20.html
END:VEVENT
END:VCALENDAR
