BEGIN:VCALENDAR
VERSION:2.0
PRODID:hinto.net
X-PUBLISHED-TTL:P1W
BEGIN:VEVENT
UID:hinto.net-event_show-6863432
DTSTART:20260419T121300
SEQUENCE:0
CREATED:20260329T154542
LAST-MODIFIED:20260329T154542
TRANSP:OPAQUE
DTEND:20260419T121500
LOCATION:
SUMMARY:Tele Basel: Wetter
CLASS:PUBLIC
DESCRIPTION:
ORGANIZER:
DTSTAMP:20260419T173747
ATTACH:https://www.hinto.net/de/events/tele-basel-wetter-19-04-2026-1213-e2794048-20.html
END:VEVENT
END:VCALENDAR
