BEGIN:VCALENDAR
VERSION:2.0
PRODID:hinto.net
X-PUBLISHED-TTL:P1W
BEGIN:VEVENT
UID:hinto.net-event_show-6863451
DTSTART:20260419T162500
SEQUENCE:0
CREATED:20260329T154555
LAST-MODIFIED:20260329T154555
TRANSP:OPAQUE
DTEND:20260419T163500
LOCATION:
SUMMARY:Tele Basel: Tatze, Pfote, Schnabel
CLASS:PUBLIC
DESCRIPTION:
ORGANIZER:
DTSTAMP:20260419T221403
ATTACH:https://www.hinto.net/de/events/tele-basel-tatze-pfote-schnabel-19-04-2026-1625-e2794067-20.html
END:VEVENT
END:VCALENDAR
