BEGIN:VCALENDAR
VERSION:2.0
PRODID:hinto.net
X-PUBLISHED-TTL:P1W
BEGIN:VEVENT
UID:hinto.net-event_show-6873058
DTSTART:20260423T040000
SEQUENCE:0
CREATED:20260402T051156
LAST-MODIFIED:20260402T051156
TRANSP:OPAQUE
DTEND:20260423T041300
LOCATION:
SUMMARY:Tele Basel: punkt6
CLASS:PUBLIC
DESCRIPTION:
ORGANIZER:
DTSTAMP:20260423T162047
ATTACH:https://www.hinto.net/de/events/tele-basel-punkt6-23-04-2026-0400-e2801462-20.html
END:VEVENT
END:VCALENDAR
