BEGIN:VCALENDAR
VERSION:2.0
PRODID:hinto.net
X-PUBLISHED-TTL:P1W
BEGIN:VEVENT
UID:hinto.net-event_show-6873053
DTSTART:20260423T030000
SEQUENCE:0
CREATED:20260402T051153
LAST-MODIFIED:20260402T051153
TRANSP:OPAQUE
DTEND:20260423T031300
LOCATION:
SUMMARY:Tele Basel: punkt6
CLASS:PUBLIC
DESCRIPTION:
ORGANIZER:
DTSTAMP:20260423T162048
ATTACH:https://www.hinto.net/de/events/tele-basel-punkt6-23-04-2026-0300-e2801457-20.html
END:VEVENT
END:VCALENDAR
