BEGIN:VCALENDAR
VERSION:2.0
PRODID:hinto.net
X-PUBLISHED-TTL:P1W
BEGIN:VEVENT
UID:hinto.net-event_show-6873046
DTSTART:20260422T234500
SEQUENCE:0
CREATED:20260402T051147
LAST-MODIFIED:20260402T051147
TRANSP:OPAQUE
DTEND:20260423T000000
LOCATION:
SUMMARY:Tele Basel: Kuchigschichte
CLASS:PUBLIC
DESCRIPTION:
ORGANIZER:
DTSTAMP:20260424T054653
ATTACH:https://www.hinto.net/de/events/tele-basel-kuchigschichte-22-04-2026-2345-e2801450-20.html
END:VEVENT
END:VCALENDAR
