BEGIN:VCALENDAR
VERSION:2.0
PRODID:hinto.net
X-PUBLISHED-TTL:P1W
BEGIN:VEVENT
UID:hinto.net-event_show-6872954
DTSTART:20260423T035500
SEQUENCE:0
CREATED:20260402T050913
LAST-MODIFIED:20260402T050913
TRANSP:OPAQUE
DTEND:20260423T040000
LOCATION:
SUMMARY:Tele Bärn: Wetter
CLASS:PUBLIC
DESCRIPTION:
ORGANIZER:
DTSTAMP:20260423T163531
ATTACH:https://www.hinto.net/de/events/tele-baern-wetter-23-04-2026-0355-e2801358-20.html
END:VEVENT
END:VCALENDAR
