BEGIN:VCALENDAR
VERSION:2.0
PRODID:hinto.net
X-PUBLISHED-TTL:P1W
BEGIN:VEVENT
UID:hinto.net-event_show-6872943
DTSTART:20260422T235500
SEQUENCE:0
CREATED:20260402T050834
LAST-MODIFIED:20260402T050834
TRANSP:OPAQUE
DTEND:20260423T000000
LOCATION:
SUMMARY:Tele Bärn: Wetter
CLASS:PUBLIC
DESCRIPTION:
ORGANIZER:
DTSTAMP:20260423T232359
ATTACH:https://www.hinto.net/de/events/tele-baern-wetter-22-04-2026-2355-e2801347-20.html
END:VEVENT
END:VCALENDAR
