BEGIN:VCALENDAR
VERSION:2.0
PRODID:hinto.net
X-PUBLISHED-TTL:P1W
BEGIN:VEVENT
UID:hinto.net-event_show-6859993
DTSTART:20260418T235500
SEQUENCE:0
CREATED:20260328T060103
LAST-MODIFIED:20260328T060103
TRANSP:OPAQUE
DTEND:20260419T000000
LOCATION:
SUMMARY:Tele Bärn: Wetter
CLASS:PUBLIC
DESCRIPTION:
ORGANIZER:
DTSTAMP:20260419T161533
ATTACH:https://www.hinto.net/de/events/tele-baern-wetter-18-04-2026-2355-e2791172-20.html
END:VEVENT
END:VCALENDAR
