BEGIN:VCALENDAR
VERSION:2.0
PRODID:hinto.net
X-PUBLISHED-TTL:P1W
BEGIN:VEVENT
UID:hinto.net-event_show-6907449
DTSTART:20260419T132000
SEQUENCE:0
CREATED:20260413T160242
LAST-MODIFIED:20260413T160242
TRANSP:OPAQUE
DTEND:20260419T164500
LOCATION:
SUMMARY:Tele Bärn: premiumshopping.tv
CLASS:PUBLIC
DESCRIPTION:
ORGANIZER:
DTSTAMP:20260419T203631
ATTACH:https://www.hinto.net/de/events/tele-baern-premiumshopping-tv-19-04-2026-1320-e2832296-20.html
END:VEVENT
END:VCALENDAR
