BEGIN:VCALENDAR
VERSION:2.0
PRODID:hinto.net
X-PUBLISHED-TTL:P1W
BEGIN:VEVENT
UID:hinto.net-event_show-6863133
DTSTART:20260419T130000
SEQUENCE:0
CREATED:20260419T134816
LAST-MODIFIED:20260419T134816
TRANSP:OPAQUE
DTEND:20260419T132000
LOCATION:
SUMMARY:Tele 1: Nachrichten
CLASS:PUBLIC
DESCRIPTION:
ORGANIZER:
DTSTAMP:20260419T174031
ATTACH:https://www.hinto.net/de/events/tele-1-nachrichten-19-04-2026-1300-e2793749-20.html
END:VEVENT
END:VCALENDAR
