BEGIN:VCALENDAR
VERSION:2.0
PRODID:hinto.net
X-PUBLISHED-TTL:P1W
BEGIN:VEVENT
UID:hinto.net-event_show-6939543
DTSTART:20260423T032900
SEQUENCE:0
CREATED:20260422T185258
LAST-MODIFIED:20260422T185258
TRANSP:OPAQUE
DTEND:20260423T035000
LOCATION:
SUMMARY:Swiss1: Menu Surprise
CLASS:PUBLIC
DESCRIPTION:
ORGANIZER:
DTSTAMP:20260423T221756
ATTACH:https://www.hinto.net/de/events/swiss1-menu-surprise-23-04-2026-0329-e2854884-20.html
END:VEVENT
END:VCALENDAR
