BEGIN:VCALENDAR
VERSION:2.0
PRODID:hinto.net
X-PUBLISHED-TTL:P1W
BEGIN:VEVENT
UID:hinto.net-event_show-6859054
DTSTART:20260417T180000
SEQUENCE:0
CREATED:20260328T052641
LAST-MODIFIED:20260328T052641
TRANSP:OPAQUE
DTEND:20260417T183000
LOCATION:
SUMMARY:Swiss1: House Hunters International
CLASS:PUBLIC
DESCRIPTION:
ORGANIZER:
DTSTAMP:20260419T232115
ATTACH:https://www.hinto.net/de/events/swiss1-house-hunters-international-17-04-2026-1800-e2790233-20.html
END:VEVENT
END:VCALENDAR
