BEGIN:VCALENDAR
VERSION:2.0
PRODID:hinto.net
X-PUBLISHED-TTL:P1W
BEGIN:VEVENT
UID:hinto.net-event_show-6860112
DTSTART:20260418T234000
SEQUENCE:0
CREATED:20260328T060311
LAST-MODIFIED:20260328T060311
TRANSP:OPAQUE
DTEND:20260419T011500
LOCATION:
SUMMARY:Swiss1: Ein Schnappschuss des Glücks
CLASS:PUBLIC
DESCRIPTION:
ORGANIZER:
DTSTAMP:20260419T160330
ATTACH:https://www.hinto.net/de/events/swiss1-ein-schnappschuss-des-gluecks-18-04-2026-2340-e2791291-20.html
END:VEVENT
END:VCALENDAR
