BEGIN:VCALENDAR
VERSION:2.0
PRODID:hinto.net
X-PUBLISHED-TTL:P1W
BEGIN:VEVENT
UID:hinto.net-event_show-6922494
DTSTART:20260419T162500
SEQUENCE:0
CREATED:20260418T114400
LAST-MODIFIED:20260418T114400
TRANSP:OPAQUE
DTEND:20260419T163500
LOCATION:
SUMMARY:Super RTL: SpongeBob Schwammkopf
CLASS:PUBLIC
DESCRIPTION:
ORGANIZER:
DTSTAMP:20260419T210404
ATTACH:https://www.hinto.net/de/events/super-rtl-spongebob-schwammkopf-19-04-2026-1625-e2845021-20.html
END:VEVENT
END:VCALENDAR
