BEGIN:VCALENDAR
VERSION:2.0
PRODID:hinto.net
X-PUBLISHED-TTL:P1W
BEGIN:VEVENT
UID:hinto.net-event_show-6871986
DTSTART:20260422T234500
SEQUENCE:0
CREATED:20260402T042147
LAST-MODIFIED:20260402T042147
TRANSP:OPAQUE
DTEND:20260423T000000
LOCATION:
SUMMARY:SRF zwei: Newsflash SRF zwei
CLASS:PUBLIC
DESCRIPTION:
ORGANIZER:
DTSTAMP:20260424T084307
ATTACH:https://www.hinto.net/de/events/srf-zwei-newsflash-srf-zwei-22-04-2026-2345-e2800390-20.html
END:VEVENT
END:VCALENDAR
