BEGIN:VCALENDAR
VERSION:2.0
PRODID:hinto.net
X-PUBLISHED-TTL:P1W
BEGIN:VEVENT
UID:hinto.net-event_show-6922238
DTSTART:20260419T030000
SEQUENCE:0
CREATED:20260418T113149
LAST-MODIFIED:20260418T113149
TRANSP:OPAQUE
DTEND:20260419T042500
LOCATION:
SUMMARY:SRF zwei: Cop Car
CLASS:PUBLIC
DESCRIPTION:
ORGANIZER:
DTSTAMP:20260419T145845
ATTACH:https://www.hinto.net/de/events/srf-zwei-cop-car-19-04-2026-0300-e2844765-20.html
END:VEVENT
END:VCALENDAR
