BEGIN:VCALENDAR
VERSION:2.0
PRODID:hinto.net
X-PUBLISHED-TTL:P1W
BEGIN:VEVENT
UID:hinto.net-event_show-6862584
DTSTART:20260419T192000
SEQUENCE:0
CREATED:20260329T145644
LAST-MODIFIED:20260329T145644
TRANSP:OPAQUE
DTEND:20260419T192500
LOCATION:
SUMMARY:SRF info: Tagesschau
CLASS:PUBLIC
DESCRIPTION:
ORGANIZER:
DTSTAMP:20260420T064226
ATTACH:https://www.hinto.net/de/events/srf-info-tagesschau-19-04-2026-1920-e2793200-20.html
END:VEVENT
END:VCALENDAR
