BEGIN:VCALENDAR
VERSION:2.0
PRODID:hinto.net
X-PUBLISHED-TTL:P1W
BEGIN:VEVENT
UID:hinto.net-event_show-6885442
DTSTART:20260426T233000
SEQUENCE:0
CREATED:20260405T223559
LAST-MODIFIED:20260405T223559
TRANSP:OPAQUE
DTEND:20260427T002500
LOCATION:
SUMMARY:SRF info: Sportpanorama
CLASS:PUBLIC
DESCRIPTION:
ORGANIZER:
DTSTAMP:20260420T054522
ATTACH:https://www.hinto.net/de/events/srf-info-sportpanorama-26-04-2026-2330-e2811977-20.html
END:VEVENT
END:VCALENDAR
