BEGIN:VCALENDAR
VERSION:2.0
PRODID:hinto.net
X-PUBLISHED-TTL:P1W
BEGIN:VEVENT
UID:hinto.net-event_show-6862603
DTSTART:20260420T013000
SEQUENCE:0
CREATED:20260329T145700
LAST-MODIFIED:20260329T145700
TRANSP:OPAQUE
DTEND:20260420T022000
LOCATION:
SUMMARY:SRF info: Rundschau
CLASS:PUBLIC
DESCRIPTION:
ORGANIZER:
DTSTAMP:20260420T185949
ATTACH:https://www.hinto.net/de/events/srf-info-rundschau-20-04-2026-0130-e2793219-20.html
END:VEVENT
END:VCALENDAR
