BEGIN:VCALENDAR
VERSION:2.0
PRODID:hinto.net
X-PUBLISHED-TTL:P1W
BEGIN:VEVENT
UID:hinto.net-event_show-6872083
DTSTART:20260423T030500
SEQUENCE:0
CREATED:20260402T042757
LAST-MODIFIED:20260402T042757
TRANSP:OPAQUE
DTEND:20260423T031000
LOCATION:
SUMMARY:SRF info: Newsflash SRF 1
CLASS:PUBLIC
DESCRIPTION:
ORGANIZER:
DTSTAMP:20260423T174530
ATTACH:https://www.hinto.net/de/events/srf-info-newsflash-srf-1-23-04-2026-0305-e2800487-20.html
END:VEVENT
END:VCALENDAR
