BEGIN:VCALENDAR
VERSION:2.0
PRODID:hinto.net
X-PUBLISHED-TTL:P1W
BEGIN:VEVENT
UID:hinto.net-event_show-6872071
DTSTART:20260423T010500
SEQUENCE:0
CREATED:20260402T042746
LAST-MODIFIED:20260402T042746
TRANSP:OPAQUE
DTEND:20260423T011000
LOCATION:
SUMMARY:SRF info: Newsflash SRF 1
CLASS:PUBLIC
DESCRIPTION:
ORGANIZER:
DTSTAMP:20260423T232117
ATTACH:https://www.hinto.net/de/events/srf-info-newsflash-srf-1-23-04-2026-0105-e2800475-20.html
END:VEVENT
END:VCALENDAR
