BEGIN:VCALENDAR
VERSION:2.0
PRODID:hinto.net
X-PUBLISHED-TTL:P1W
BEGIN:VEVENT
UID:hinto.net-event_show-6852496
DTSTART:20260417T010000
SEQUENCE:0
CREATED:20260326T181532
LAST-MODIFIED:20260326T181532
TRANSP:OPAQUE
DTEND:20260417T010500
LOCATION:
SUMMARY:SRF info: Newsflash SRF 1
CLASS:PUBLIC
DESCRIPTION:
ORGANIZER:
DTSTAMP:20260419T210015
ATTACH:https://www.hinto.net/de/events/srf-info-newsflash-srf-1-17-04-2026-0100-e2784375-20.html
END:VEVENT
END:VCALENDAR
