BEGIN:VCALENDAR
VERSION:2.0
PRODID:hinto.net
X-PUBLISHED-TTL:P1W
BEGIN:VEVENT
UID:hinto.net-event_show-6922254
DTSTART:20260419T031000
SEQUENCE:0
CREATED:20260418T113202
LAST-MODIFIED:20260418T113202
TRANSP:OPAQUE
DTEND:20260419T031500
LOCATION:
SUMMARY:SRF info: Meteo
CLASS:PUBLIC
DESCRIPTION:
ORGANIZER:
DTSTAMP:20260419T144951
ATTACH:https://www.hinto.net/de/events/srf-info-meteo-19-04-2026-0310-e2844781-20.html
END:VEVENT
END:VCALENDAR
