BEGIN:VCALENDAR
VERSION:2.0
PRODID:hinto.net
X-PUBLISHED-TTL:P1W
BEGIN:VEVENT
UID:hinto.net-event_show-6872084
DTSTART:20260423T031000
SEQUENCE:0
CREATED:20260402T042758
LAST-MODIFIED:20260402T042758
TRANSP:OPAQUE
DTEND:20260423T033500
LOCATION:
SUMMARY:SRF info: 10 vor 10
CLASS:PUBLIC
DESCRIPTION:
ORGANIZER:
DTSTAMP:20260423T190128
ATTACH:https://www.hinto.net/de/events/srf-info-10-vor-10-23-04-2026-0310-e2800488-20.html
END:VEVENT
END:VCALENDAR
