BEGIN:VCALENDAR
VERSION:2.0
PRODID:hinto.net
X-PUBLISHED-TTL:P1W
BEGIN:VEVENT
UID:hinto.net-event_show-6872080
DTSTART:20260423T023000
SEQUENCE:0
CREATED:20260402T042754
LAST-MODIFIED:20260402T042754
TRANSP:OPAQUE
DTEND:20260423T025500
LOCATION:
SUMMARY:SRF info: 10 vor 10
CLASS:PUBLIC
DESCRIPTION:
ORGANIZER:
DTSTAMP:20260423T190124
ATTACH:https://www.hinto.net/de/events/srf-info-10-vor-10-23-04-2026-0230-e2800484-20.html
END:VEVENT
END:VCALENDAR
