BEGIN:VCALENDAR
VERSION:2.0
PRODID:hinto.net
X-PUBLISHED-TTL:P1W
BEGIN:VEVENT
UID:hinto.net-event_show-6913328
DTSTART:20260423T024500
SEQUENCE:0
CREATED:20260415T193214
LAST-MODIFIED:20260415T193214
TRANSP:OPAQUE
DTEND:20260423T031500
LOCATION:
SUMMARY:SRF 1: Reporter
CLASS:PUBLIC
DESCRIPTION:
ORGANIZER:
DTSTAMP:20260423T214948
ATTACH:https://www.hinto.net/de/events/srf-1-reporter-23-04-2026-0245-e2836986-20.html
END:VEVENT
END:VCALENDAR
