BEGIN:VCALENDAR
VERSION:2.0
PRODID:hinto.net
X-PUBLISHED-TTL:P1W
BEGIN:VEVENT
UID:hinto.net-event_show-6871959
DTSTART:20260423T001500
SEQUENCE:0
CREATED:20260402T041813
LAST-MODIFIED:20260402T041813
TRANSP:OPAQUE
DTEND:20260423T002500
LOCATION:
SUMMARY:SRF 1: Newsflash SRF 1
CLASS:PUBLIC
DESCRIPTION:
ORGANIZER:
DTSTAMP:20260423T232558
ATTACH:https://www.hinto.net/de/events/srf-1-newsflash-srf-1-23-04-2026-0015-e2800363-20.html
END:VEVENT
END:VCALENDAR
