BEGIN:VCALENDAR
VERSION:2.0
PRODID:hinto.net
X-PUBLISHED-TTL:P1W
BEGIN:VEVENT
UID:hinto.net-event_show-6862522
DTSTART:20260419T191500
SEQUENCE:0
CREATED:20260329T145302
LAST-MODIFIED:20260329T145302
TRANSP:OPAQUE
DTEND:20260419T193000
LOCATION:
SUMMARY:SRF 1: mitenand
CLASS:PUBLIC
DESCRIPTION:
ORGANIZER:
DTSTAMP:20260420T090229
ATTACH:https://www.hinto.net/de/events/srf-1-mitenand-19-04-2026-1915-e2793138-20.html
END:VEVENT
END:VCALENDAR
