BEGIN:VCALENDAR
VERSION:2.0
PRODID:hinto.net
X-PUBLISHED-TTL:P1W
BEGIN:VEVENT
UID:hinto.net-event_show-6871963
DTSTART:20260423T031500
SEQUENCE:0
CREATED:20260402T042116
LAST-MODIFIED:20260402T042116
TRANSP:OPAQUE
DTEND:20260423T033000
LOCATION:
SUMMARY:SRF 1: Mini Chuchi, dini Chuchi
CLASS:PUBLIC
DESCRIPTION:
ORGANIZER:
DTSTAMP:20260423T190311
ATTACH:https://www.hinto.net/de/events/srf-1-mini-chuchi-dini-chuchi-23-04-2026-0315-e2800367-20.html
END:VEVENT
END:VCALENDAR
