BEGIN:VCALENDAR
VERSION:2.0
PRODID:hinto.net
X-PUBLISHED-TTL:P1W
BEGIN:VEVENT
UID:hinto.net-event_show-6867534
DTSTART:20260421T211000
SEQUENCE:0
CREATED:20260331T202409
LAST-MODIFIED:20260331T202409
TRANSP:OPAQUE
DTEND:20260421T215000
LOCATION:
SUMMARY:SRF 1: Kassensturz
CLASS:PUBLIC
DESCRIPTION:
ORGANIZER:
DTSTAMP:20260419T233537
ATTACH:https://www.hinto.net/de/events/srf-1-kassensturz-21-04-2026-2110-e2797502-20.html
END:VEVENT
END:VCALENDAR
