BEGIN:VCALENDAR
VERSION:2.0
PRODID:hinto.net
X-PUBLISHED-TTL:P1W
BEGIN:VEVENT
UID:hinto.net-event_show-6862520
DTSTART:20260419T181500
SEQUENCE:0
CREATED:20260329T145300
LAST-MODIFIED:20260329T145300
TRANSP:OPAQUE
DTEND:20260419T185000
LOCATION:
SUMMARY:SRF 1: Ding Dong
CLASS:PUBLIC
DESCRIPTION:
ORGANIZER:
DTSTAMP:20260420T072315
ATTACH:https://www.hinto.net/de/events/srf-1-ding-dong-19-04-2026-1815-e2793136-20.html
END:VEVENT
END:VCALENDAR
