BEGIN:VCALENDAR
VERSION:2.0
PRODID:hinto.net
X-PUBLISHED-TTL:P1W
BEGIN:VEVENT
UID:hinto.net-event_show-6913239
DTSTART:20260419T025500
SEQUENCE:0
CREATED:20260415T192850
LAST-MODIFIED:20260415T192850
TRANSP:OPAQUE
DTEND:20260419T050000
LOCATION:
SUMMARY:SRF 1: Danke Happy Day
CLASS:PUBLIC
DESCRIPTION:
ORGANIZER:
DTSTAMP:20260419T215417
ATTACH:https://www.hinto.net/de/events/srf-1-danke-happy-day-19-04-2026-0255-e2836897-20.html
END:VEVENT
END:VCALENDAR
