BEGIN:VCALENDAR
VERSION:2.0
PRODID:hinto.net
X-PUBLISHED-TTL:P1W
BEGIN:VEVENT
UID:hinto.net-event_show-6862650
DTSTART:20260419T123000
SEQUENCE:0
CREATED:20260418T064603
LAST-MODIFIED:20260418T064603
TRANSP:OPAQUE
DTEND:20260419T124215
LOCATION:
SUMMARY:RTS 2: RTS Info
CLASS:PUBLIC
DESCRIPTION:
ORGANIZER:
DTSTAMP:20260419T195916
ATTACH:https://www.hinto.net/de/events/rts-2-rts-info-19-04-2026-1230-e2793266-20.html
END:VEVENT
END:VCALENDAR
